BEGIN:VCALENDAR
VERSION:2.0
CALSCALE:GREGORIAN
PRODID:-//Diputació de Barcelona//DibaCMS//EN
BEGIN:VEVENT
UID:355
DTSTAMP:20260419T160913
DTSTART:20170819T230000
DTEND:20170819T230000
SUMMARY:Concert 
LOCATION:Malanyeu 
METHOD:PUBLISH
X-WR-CALNAME:nou@lanoudebergueda.cat
X-WR-TIMEZONE:Europe/Madrid
DESCRIPTION:Concert acústic a càrrec de Caipirinhas Ruberus

URI:https://www.lanoudebergueda.cat/actualitat/agenda/concert-.html
CLASS:PUBLIC
END:VEVENT
END:VCALENDAR
