BEGIN:VCALENDAR
VERSION:2.0
CALSCALE:GREGORIAN
PRODID:-//Diputació de Barcelona//DibaCMS//EN
BEGIN:VEVENT
UID:490
DTSTAMP:20260419T140741
DTSTART:20180728T000000
DTEND:20180805T000000
SUMMARY:Festa Major 2018
LOCATION:
METHOD:PUBLISH
X-WR-CALNAME:nou@lanoudebergueda.cat
X-WR-TIMEZONE:Europe/Madrid
DESCRIPTION:Ja s'apropa la Festa Major d'enguany que compta amb jocs per la canalla, un musical, la XII cursa d'orientació nocturna, ball i més!

URI:https://www.lanoudebergueda.cat/actualitat/agenda/festa-major-2018.html
CLASS:PUBLIC
END:VEVENT
END:VCALENDAR
