BEGIN:VCALENDAR
VERSION:2.0
CALSCALE:GREGORIAN
PRODID:-//Diputació de Barcelona//DibaCMS//EN
BEGIN:VEVENT
UID:512
DTSTAMP:20260422T104840
DTSTART:20180805T193000
DTEND:20180805T200000
SUMMARY:Festa de l'escuma amb "Divertimento animació"
LOCATION:Pista poliesportiva 
METHOD:PUBLISH
X-WR-CALNAME:nou@lanoudebergueda.cat
X-WR-TIMEZONE:Europe/Madrid
DESCRIPTION:
URI:https://www.lanoudebergueda.cat/actualitat/agenda/festa-de-lescuma-amb-divertimento-animacio.html
CLASS:PUBLIC
END:VEVENT
END:VCALENDAR
