BEGIN:VCALENDAR
VERSION:2.0
CALSCALE:GREGORIAN
PRODID:-//Diputació de Barcelona//DibaCMS//EN
BEGIN:VEVENT
UID:525
DTSTAMP:20260419T153414
DTSTART:20180818T180000
DTEND:20180818T190000
SUMMARY:Festa Major de Malanyeu. Xocolatada i conèixer les plantes.
LOCATION:
METHOD:PUBLISH
X-WR-CALNAME:nou@lanoudebergueda.cat
X-WR-TIMEZONE:Europe/Madrid
DESCRIPTION:Coca i xocolata desfeta per tothom

Tot seguit, vine a conèixer les plantes del nostre entorn

URI:https://www.lanoudebergueda.cat/actualitat/agenda/festa-major-de-malanyeu-xocolatada-i-coneixer-les-plantes.html
CLASS:PUBLIC
END:VEVENT
END:VCALENDAR
