BEGIN:VCALENDAR
VERSION:2.0
CALSCALE:GREGORIAN
PRODID:-//Diputació de Barcelona//DibaCMS//EN
BEGIN:VEVENT
UID:527
DTSTAMP:20260419T140116
DTSTART:20180819T110000
DTEND:20180819T120000
SUMMARY:Festa Major de Malanyeu. Missa
LOCATION:
METHOD:PUBLISH
X-WR-CALNAME:nou@lanoudebergueda.cat
X-WR-TIMEZONE:Europe/Madrid
DESCRIPTION:Missa de Festa Major acompanyada per la Coral Santa Maria d'Avià. 

Sardanes i passejada anual del Dracanyeu

URI:https://www.lanoudebergueda.cat/actualitat/agenda/festa-major-de-malanyeu-missa.html
CLASS:PUBLIC
END:VEVENT
END:VCALENDAR
