BEGIN:VCALENDAR
VERSION:2.0
CALSCALE:GREGORIAN
PRODID:-//Diputació de Barcelona//DibaCMS//EN
BEGIN:VEVENT
UID:529
DTSTAMP:20260419T140340
DTSTART:20180819T200000
DTEND:20180819T220000
SUMMARY:Festa Major de Malanyeu. Ball fi de festa
LOCATION:Ctra. Malanyeu s/n 08698 La Nou de Berguedà
METHOD:PUBLISH
X-WR-CALNAME:nou@lanoudebergueda.cat
X-WR-TIMEZONE:Europe/Madrid
DESCRIPTION:Ball de fi de Festa Major

URI:https://www.lanoudebergueda.cat/actualitat/agenda/festa-major-de-malanyeu-ball-fi-de-festa.html
CLASS:PUBLIC
END:VEVENT
END:VCALENDAR
