BEGIN:VCALENDAR
VERSION:2.0
CALSCALE:GREGORIAN
PRODID:-//Diputació de Barcelona//DibaCMS//EN
BEGIN:VEVENT
UID:537
DTSTAMP:20260419T153010
DTSTART:20191001T110000
DTEND:20191001T130000
SUMMARY:Gimnàstica
LOCATION:Centre cívic 
METHOD:PUBLISH
X-WR-CALNAME:nou@lanoudebergueda.cat
X-WR-TIMEZONE:Europe/Madrid
DESCRIPTION:Tots els dimecres, des de l'octubre fins el mes de juny, es realitzarà la gimnàstica i balls per a la gent gran. Horari de 11 a 13 hores.

URI:https://www.lanoudebergueda.cat/actualitat/agenda/gimnastica.html
CLASS:PUBLIC
END:VEVENT
END:VCALENDAR
