BEGIN:VCALENDAR
VERSION:2.0
CALSCALE:GREGORIAN
PRODID:-//Diputació de Barcelona//DibaCMS//EN
BEGIN:VEVENT
UID:564
DTSTAMP:20260422T163123
DTSTART:20181130T190000
DTEND:20181130T203000
SUMMARY:Trobada d'entitats i veïnat de la Nou i Malanyeu
LOCATION:Plaça de l'Ajuntament 08698 La Nou de Berguedà
METHOD:PUBLISH
X-WR-CALNAME:nou@lanoudebergueda.cat
X-WR-TIMEZONE:Europe/Madrid
DESCRIPTION:La Nou es mou!

Trobada d'entitats i veïnat de La Nou i Malanyeu per a la promoció associativa. 

URI:https://www.lanoudebergueda.cat/actualitat/agenda/trobada-dentitats-i-veinat-de-la-nou-i-malanyeu.html
CLASS:PUBLIC
END:VEVENT
END:VCALENDAR
