BEGIN:VCALENDAR
VERSION:2.0
CALSCALE:GREGORIAN
PRODID:-//Diputació de Barcelona//DibaCMS//EN
BEGIN:VEVENT
UID:651
DTSTAMP:20260419T153546
DTSTART:20190803T170000
DTEND:20190803T190000
SUMMARY:Partit de futbol sala 
LOCATION:Pista poliesportiva 
METHOD:PUBLISH
X-WR-CALNAME:nou@lanoudebergueda.cat
X-WR-TIMEZONE:Europe/Madrid
DESCRIPTION:Per a nois i noies fins als 16 anys.

URI:https://www.lanoudebergueda.cat/actualitat/agenda/partit-de-futbol-sala-.html
CLASS:PUBLIC
END:VEVENT
END:VCALENDAR
