BEGIN:VCALENDAR
VERSION:2.0
CALSCALE:GREGORIAN
PRODID:-//Diputació de Barcelona//DibaCMS//EN
BEGIN:VEVENT
UID:668
DTSTAMP:20260424T005024
DTSTART:20190817T110000
DTEND:20190817T140000
SUMMARY:Festa Major Malanyeu. Orientació per a la quitxalla
LOCATION:
METHOD:PUBLISH
X-WR-CALNAME:nou@lanoudebergueda.cat
X-WR-TIMEZONE:Europe/Madrid
DESCRIPTION:Sortida: Les Escoles

Cal portar un bon calçat i aigua

URI:https://www.lanoudebergueda.cat/actualitat/agenda/festa-major-malanyeu-orientacio-per-a-la-quitxalla.html
CLASS:PUBLIC
END:VEVENT
END:VCALENDAR
