BEGIN:VCALENDAR
VERSION:2.0
CALSCALE:GREGORIAN
PRODID:-//Diputació de Barcelona//DibaCMS//EN
BEGIN:VEVENT
UID:721
DTSTAMP:20260419T140618
DTSTART:20191111T110000
DTEND:20191111T113000
SUMMARY:Festa Major de Sant Martí. dies 11,15,16 i 17 de Novembre
LOCATION:
METHOD:PUBLISH
X-WR-CALNAME:nou@lanoudebergueda.cat
X-WR-TIMEZONE:Europe/Madrid
DESCRIPTION:Inici de festa major amb 4 foets.

Podeu consultar totes les activitats en l'Agenda de la web.

Bona Festa Major!

URI:https://www.lanoudebergueda.cat/actualitat/agenda/festa-major-de-sant-marti-dies-111516-i-17-de-novembre.html
CLASS:PUBLIC
END:VEVENT
END:VCALENDAR
