BEGIN:VCALENDAR
VERSION:2.0
CALSCALE:GREGORIAN
PRODID:-//Diputació de Barcelona//DibaCMS//EN
BEGIN:VEVENT
UID:722
DTSTAMP:20260419T140316
DTSTART:20191115T200000
DTEND:20191115T220000
SUMMARY:Cinema
LOCATION:Plaça de l'Ajuntament 08698 La Nou de Berguedà
METHOD:PUBLISH
X-WR-CALNAME:nou@lanoudebergueda.cat
X-WR-TIMEZONE:Europe/Madrid
DESCRIPTION:Hi haurà servei de bar (entrepans i begudes)

URI:https://www.lanoudebergueda.cat/actualitat/agenda/722-cinema.html
CLASS:PUBLIC
END:VEVENT
END:VCALENDAR
