BEGIN:VCALENDAR
VERSION:2.0
CALSCALE:GREGORIAN
PRODID:-//Diputació de Barcelona//DibaCMS//EN
BEGIN:VEVENT
UID:725
DTSTAMP:20260421T113011
DTSTART:20191116T120000
DTEND:20191116T133000
SUMMARY:Gimcana fotogràfica
LOCATION:
METHOD:PUBLISH
X-WR-CALNAME:nou@lanoudebergueda.cat
X-WR-TIMEZONE:Europe/Madrid
DESCRIPTION:
URI:https://www.lanoudebergueda.cat/actualitat/agenda/gimcana-fotografica.html
CLASS:PUBLIC
END:VEVENT
END:VCALENDAR
