BEGIN:VCALENDAR
VERSION:2.0
CALSCALE:GREGORIAN
PRODID:-//Diputació de Barcelona//DibaCMS//EN
BEGIN:VEVENT
UID:726
DTSTAMP:20260419T184430
DTSTART:20191116T160000
DTEND:20191116T180000
SUMMARY:Concurs de botifarra
LOCATION:Plaça de l'Ajuntament 08698 La Nou de Berguedà
METHOD:PUBLISH
X-WR-CALNAME:nou@lanoudebergueda.cat
X-WR-TIMEZONE:Europe/Madrid
DESCRIPTION:Cada participant tindrà un regal.

Premis per a les 4 primeres parelles guanyadores:

1a. Espatlla de porc

2a. Llonganissa, tastet sec i formatge

3r. Llonganissa i tastet sec

4r. Ampolla de cava

URI:https://www.lanoudebergueda.cat/actualitat/agenda/726-concurs-de-botifarra.html
CLASS:PUBLIC
END:VEVENT
END:VCALENDAR
