BEGIN:VCALENDAR
VERSION:2.0
CALSCALE:GREGORIAN
PRODID:-//Diputació de Barcelona//DibaCMS//EN
BEGIN:VEVENT
UID:728
DTSTAMP:20260419T153639
DTSTART:20191116T193000
DTEND:20191116T210000
SUMMARY:Música d'acordionistes
LOCATION:Plaça de l'Ajuntament 08698 La Nou de Berguedà
METHOD:PUBLISH
X-WR-CALNAME:nou@lanoudebergueda.cat
X-WR-TIMEZONE:Europe/Madrid
DESCRIPTION:Amb en Pere Marginet, en Joan Tarroella i en Pepe Gonzàlez

(hi haurà servei de bar: entrepans i begudes)

URI:https://www.lanoudebergueda.cat/actualitat/agenda/musica-dacordionistes.html
CLASS:PUBLIC
END:VEVENT
END:VCALENDAR
