BEGIN:VCALENDAR
VERSION:2.0
CALSCALE:GREGORIAN
PRODID:-//Diputació de Barcelona//DibaCMS//EN
BEGIN:VEVENT
UID:732
DTSTAMP:20260419T184538
DTSTART:20191117T101500
DTEND:20191117T130000
SUMMARY:XI Open d'Orientació especial
LOCATION:
METHOD:PUBLISH
X-WR-CALNAME:nou@lanoudebergueda.cat
X-WR-TIMEZONE:Europe/Madrid
DESCRIPTION:Categories màster i iniciació. Obsequis per a tots/es

Premis per: 5 primers classificats màster

                   5 primeres classificades màster

                   5 primers classificats/des iniciació

URI:https://www.lanoudebergueda.cat/actualitat/agenda/xi-open-dorientacio-especial.html
CLASS:PUBLIC
END:VEVENT
END:VCALENDAR
