BEGIN:VCALENDAR
VERSION:2.0
CALSCALE:GREGORIAN
PRODID:-//Diputació de Barcelona//DibaCMS//EN
BEGIN:VEVENT
UID:737
DTSTAMP:20260419T184052
DTSTART:20191117T201500
DTEND:20191117T210000
SUMMARY:Fi Festa Major Sant Martí
LOCATION:
METHOD:PUBLISH
X-WR-CALNAME:nou@lanoudebergueda.cat
X-WR-TIMEZONE:Europe/Madrid
DESCRIPTION:
URI:https://www.lanoudebergueda.cat/actualitat/agenda/fi-festa-major-sant-marti.html
CLASS:PUBLIC
END:VEVENT
END:VCALENDAR
