BEGIN:VCALENDAR
VERSION:2.0
CALSCALE:GREGORIAN
PRODID:-//Diputació de Barcelona//DibaCMS//EN
BEGIN:VEVENT
UID:744
DTSTAMP:20260419T183749
DTSTART:20191207T100000
DTEND:20191207T140000
SUMMARY:Marató 2019
LOCATION:
METHOD:PUBLISH
X-WR-CALNAME:nou@lanoudebergueda.cat
X-WR-TIMEZONE:Europe/Madrid
DESCRIPTION:El grup de manualitats organitza la marató de La Nou i Malanyeu d'enguany dedicada a les malalties minoritàries. Us hi esperem!

 

URI:https://www.lanoudebergueda.cat/actualitat/agenda/marato-2019.html
CLASS:PUBLIC
END:VEVENT
END:VCALENDAR
