BEGIN:VCALENDAR
VERSION:2.0
CALSCALE:GREGORIAN
PRODID:-//Diputació de Barcelona//DibaCMS//EN
BEGIN:VEVENT
UID:745
DTSTAMP:20260419T184925
DTSTART:20191123T103000
DTEND:20191123T130000
SUMMARY:Ruta guiada pels boscos del municipi de La Nou del Berguedà
LOCATION:Sortida des del Centre Cívic 
METHOD:PUBLISH
X-WR-CALNAME:nou@lanoudebergueda.cat
X-WR-TIMEZONE:Europe/Madrid
DESCRIPTION:Activitat oberta per totes les persones. 

Per a més informació podeu escriure al correu josep.pujantell@larada.coop o trucant al telèfon 625 641 726

Agraïm confirmació d'assistència. 

URI:https://www.lanoudebergueda.cat/actualitat/agenda/ruta-guiada-pels-boscos-del-municipi-de-la-nou-del-bergueda.html
CLASS:PUBLIC
END:VEVENT
END:VCALENDAR
