BEGIN:VCALENDAR
VERSION:2.0
CALSCALE:GREGORIAN
PRODID:-//Diputació de Barcelona//DibaCMS//EN
BEGIN:VEVENT
UID:746
DTSTAMP:20260419T184634
DTSTART:20191130T100000
DTEND:20191130T120000
SUMMARY:Taller participatiu sobre els canvis d'usos en els espais agroforestals
LOCATION:Plaça de l'Ajuntament 08698 La Nou de Berguedà
METHOD:PUBLISH
X-WR-CALNAME:nou@lanoudebergueda.cat
X-WR-TIMEZONE:Europe/Madrid
DESCRIPTION:Taller participatiu sobre els canvis d'usos en els espais agrofoestals de La Nou de Berguedà. 

URI:https://www.lanoudebergueda.cat/actualitat/agenda/taller-participatiu-sobre-els-canvis-dusos-en-els-espais-agroforestals.html
CLASS:PUBLIC
END:VEVENT
END:VCALENDAR
