BEGIN:VCALENDAR
VERSION:2.0
CALSCALE:GREGORIAN
PRODID:-//Diputació de Barcelona//DibaCMS//EN
BEGIN:VEVENT
UID:748
DTSTAMP:20260419T184706
DTSTART:20191208T110000
DTEND:20191208T123000
SUMMARY:La Nou es Mou. Trobada entre entitats
LOCATION:Casal Cívic 
METHOD:PUBLISH
X-WR-CALNAME:nou@lanoudebergueda.cat
X-WR-TIMEZONE:Europe/Madrid
DESCRIPTION:Jornada de participació i debat sobre la tinença responsable de gossos i gats

URI:https://www.lanoudebergueda.cat/actualitat/agenda/la-nou-es-mou-trobada-entre-entitats.html
CLASS:PUBLIC
END:VEVENT
END:VCALENDAR
