BEGIN:VCALENDAR
VERSION:2.0
CALSCALE:GREGORIAN
PRODID:-//Diputació de Barcelona//DibaCMS//EN
BEGIN:VEVENT
UID:766
DTSTAMP:20260423T104031
DTSTART:20201017T000000
DTEND:20201017T000000
SUMMARY:La Nou al país del cava i mariner
LOCATION:
METHOD:PUBLISH
X-WR-CALNAME:nou@lanoudebergueda.cat
X-WR-TIMEZONE:Europe/Madrid
DESCRIPTION:El pròxim 17 d'octubre es realitzarà l'excursió al Penedès i al Garraf (detalls al cartell). La sortida serà a les 08:00h del matí i l'arribada està programada per les 20:30h aproximadament.

Es poden realitzar les inscripcions fins el dia 10 d'octubre, via whatsapp (644947546) o presencialment per les oficines de l'Ajuntament. S'haurà de triar primer i segon plat un cop es realitzi la inscripció.

Us hi esperem a tots!



URI:https://www.lanoudebergueda.cat/actualitat/agenda/la-nou-al-pais-del-cava-i-mariner.html
CLASS:PUBLIC
END:VEVENT
END:VCALENDAR
